BEGIN:VCALENDAR
VERSION:2.0
PRODID:-//Global Automation Training Solutions - ECPv6.2.6.1//NONSGML v1.0//EN
CALSCALE:GREGORIAN
METHOD:PUBLISH
X-ORIGINAL-URL:https://globalautomationtraining.com
X-WR-CALDESC:Events for Global Automation Training Solutions
REFRESH-INTERVAL;VALUE=DURATION:PT1H
X-Robots-Tag:noindex
X-PUBLISHED-TTL:PT1H
BEGIN:VTIMEZONE
TZID:UTC
BEGIN:STANDARD
TZOFFSETFROM:+0000
TZOFFSETTO:+0000
TZNAME:UTC
DTSTART:20210101T000000
END:STANDARD
END:VTIMEZONE
BEGIN:VEVENT
DTSTART;VALUE=DATE:20210914
DTEND;VALUE=DATE:20210918
DTSTAMP:20260420T013024
CREATED:20210820T205325Z
LAST-MODIFIED:20210820T205325Z
UID:1275-1631577600-1631923199@globalautomationtraining.com
SUMMARY:Level 1 GXWorks2 4-Day PLC
DESCRIPTION:San Diego\, CA\nClass #30018
URL:https://globalautomationtraining.com/event/level-1-gxworks2-4-day-plc/
CATEGORIES:Mitsubishi
END:VEVENT
BEGIN:VEVENT
DTSTART;VALUE=DATE:20210921
DTEND;VALUE=DATE:20210925
DTSTAMP:20260420T013024
CREATED:20210820T205438Z
LAST-MODIFIED:20210820T205438Z
UID:1277-1632182400-1632527999@globalautomationtraining.com
SUMMARY:Level 1 GXWorks3 4-Day PLC
DESCRIPTION:Pittsburgh\, PA\nClass #40018
URL:https://globalautomationtraining.com/event/level-1-gxworks3-4-day-plc/
CATEGORIES:Mitsubishi
END:VEVENT
BEGIN:VEVENT
DTSTART;VALUE=DATE:20210928
DTEND;VALUE=DATE:20211002
DTSTAMP:20260420T013024
CREATED:20210820T205557Z
LAST-MODIFIED:20210820T205557Z
UID:1279-1632787200-1633132799@globalautomationtraining.com
SUMMARY:Level 1 GXWorks2 4-Day PLC
DESCRIPTION:Kansas City\, MO\nClass #30019
URL:https://globalautomationtraining.com/event/level-1-gxworks2-4-day-plc-2/
CATEGORIES:Mitsubishi
END:VEVENT
END:VCALENDAR