BEGIN:VCALENDAR
VERSION:2.0
PRODID:-//Global Automation Training Solutions - ECPv6.2.6.1//NONSGML v1.0//EN
CALSCALE:GREGORIAN
METHOD:PUBLISH
X-WR-CALNAME:Global Automation Training Solutions
X-ORIGINAL-URL:https://globalautomationtraining.com
X-WR-CALDESC:Events for Global Automation Training Solutions
REFRESH-INTERVAL;VALUE=DURATION:PT1H
X-Robots-Tag:noindex
X-PUBLISHED-TTL:PT1H
BEGIN:VTIMEZONE
TZID:UTC
BEGIN:STANDARD
TZOFFSETFROM:+0000
TZOFFSETTO:+0000
TZNAME:UTC
DTSTART:20210101T000000
END:STANDARD
END:VTIMEZONE
BEGIN:VEVENT
DTSTART;VALUE=DATE:20211019
DTEND;VALUE=DATE:20211023
DTSTAMP:20260420T012832
CREATED:20210820T205920Z
LAST-MODIFIED:20210820T205920Z
UID:1285-1634601600-1634947199@globalautomationtraining.com
SUMMARY:Level 1 GXWorks3 4-Day PLC
DESCRIPTION:Orlando\, FL\nClass #40020
URL:https://globalautomationtraining.com/event/level-1-gxworks3-4-day-plc-3/
CATEGORIES:Mitsubishi
END:VEVENT
END:VCALENDAR